BEGIN:VCALENDAR
VERSION:2.0
PRODID:-//ox.ac.uk//NONSGML oxford.event//EN
X-WR-TIMEZONE:Europe/London
BEGIN:VTIMEZONE
TZID:Europe/London
X-LIC-LOCATION:Europe/London
BEGIN:DAYLIGHT
DTSTART;VALUE=DATE-TIME:19700329T010000
RRULE:FREQ=YEARLY;BYDAY=-1SU;BYMONTH=3
TZNAME:BST
TZOFFSETFROM:+0000
TZOFFSETTO:+0100
END:DAYLIGHT
BEGIN:STANDARD
DTSTART;VALUE=DATE-TIME:19701025T020000
RRULE:FREQ=YEARLY;BYDAY=-1SU;BYMONTH=10
TZNAME:GMT
TZOFFSETFROM:+0100
TZOFFSETTO:+0000
END:STANDARD
END:VTIMEZONE
BEGIN:VEVENT
SUMMARY:NIHR Webinar | An introduction to open publishing and peer review 
 with NIHR Open Research
DTSTART;TZID=Europe/London;VALUE=DATE-TIME:20260512T120000
DTEND;TZID=Europe/London;VALUE=DATE-TIME:20260512T130000
DTSTAMP;VALUE=DATE-TIME:20260421T120032Z
UID:8c968e451dcc478e96e61e095d5a9a86
CREATED;VALUE=DATE-TIME:20260330T130710Z
LAST-MODIFIED;VALUE=DATE-TIME:20260330T131552Z
SPEAKER:Marian Knight\, Professor of Maternal and Child Population Health 
 at the University of Oxford.
END:VEVENT
END:VCALENDAR
