BEGIN:VCALENDAR
VERSION:2.0
PRODID:-//ox.ac.uk//NONSGML oxford.event//EN
X-WR-TIMEZONE:Europe/London
BEGIN:VTIMEZONE
TZID:Europe/London
X-LIC-LOCATION:Europe/London
BEGIN:DAYLIGHT
DTSTART;VALUE=DATE-TIME:19700329T010000
RRULE:FREQ=YEARLY;BYDAY=-1SU;BYMONTH=3
TZNAME:BST
TZOFFSETFROM:+0000
TZOFFSETTO:+0100
END:DAYLIGHT
BEGIN:STANDARD
DTSTART;VALUE=DATE-TIME:19701025T020000
RRULE:FREQ=YEARLY;BYDAY=-1SU;BYMONTH=10
TZNAME:GMT
TZOFFSETFROM:+0100
TZOFFSETTO:+0000
END:STANDARD
END:VTIMEZONE
BEGIN:VEVENT
SUMMARY:SPCR Masterclass | Designing Inclusive and Accessible Health Resea
 rch
DTSTART;TZID=Europe/London;VALUE=DATE-TIME:20260511T120000
DTEND;TZID=Europe/London;VALUE=DATE-TIME:20260511T130000
DTSTAMP;VALUE=DATE-TIME:20260421T034248Z
UID:0875e7f62a1d4818a5ca30375e1e3264
CATEGORIES:masterclass-ppie
CONTACT:SPCR Team\, spcr@keele.ac.uk
CREATED;VALUE=DATE-TIME:20260330T104048Z
LAST-MODIFIED;VALUE=DATE-TIME:20260330T122616Z
SPEAKER:Dr Sascha Miller and Dr Jane Vennik
END:VEVENT
END:VCALENDAR
